BEGIN:VCALENDAR
VERSION:2.0
PRODID:-//Agile Hunter - ECPv6.15.17.1//NONSGML v1.0//EN
CALSCALE:GREGORIAN
METHOD:PUBLISH
X-ORIGINAL-URL:https://agilehunter.com
X-WR-CALDESC:Eventos para Agile Hunter
REFRESH-INTERVAL;VALUE=DURATION:PT1H
X-Robots-Tag:noindex
X-PUBLISHED-TTL:PT1H
BEGIN:VTIMEZONE
TZID:UTC
BEGIN:STANDARD
TZOFFSETFROM:+0000
TZOFFSETTO:+0000
TZNAME:UTC
DTSTART:20230101T000000
END:STANDARD
END:VTIMEZONE
BEGIN:VEVENT
DTSTART;TZID=UTC:20240921T080000
DTEND;TZID=UTC:20240922T170000
DTSTAMP:20260423T112514
CREATED:20240210T004248Z
LAST-MODIFIED:20240916T002506Z
UID:7230-1726905600-1727024400@agilehunter.com
SUMMARY:Certificación Leading SAFe® (SAFe® SA 6.0)
DESCRIPTION:¿Es nuevo en Scaled Agile Framework®? El curso Leading SAFe® privado le ofrece una introducción a los fundamentos de SAFe y proporciona los principios y prácticas para impulsar con confianza su transformación Lean-Agile. El curso y la certificación resultante ofrecen la guía y las herramientas para construir una cultura de resiliencia y un lenguaje compartido que involucre a los empleados y se centre en los clientes para que las organizaciones puedan trabajar con agilidad a escala. \n\n\n\nRealice un curso de Leading SAFe para descubrir cómo las empresas pueden generar agilidad comercial y cómo hacer que SAFe funcione dentro de su organización. Obtendrá una comprensión de cómo alinear toda su organización en torno a los mismos objetivos claros y cómo mejorar el flujo de valor y el trabajo desde la estrategia hasta la entrega. Aprenderá qué hace que las empresas se centren más en el cliente y cómo ejecutar eventos clave de alineación y planificación de SAFe\, como la planificación de PI.
URL:https://agilehunter.com/cursos/certificacion-leading-safe-safe-sa-6-0/
LOCATION:Virtual Online
ATTACH;FMTTYPE=image/jpeg:https://agilehunter.com/wp-content/uploads/2023/09/SAFe-SA-Banner-AH-3.jpg
END:VEVENT
END:VCALENDAR