BEGIN:VCALENDAR
VERSION:2.0
PRODID:-//Agile Hunter - ECPv6.15.17.1//NONSGML v1.0//EN
CALSCALE:GREGORIAN
METHOD:PUBLISH
X-WR-CALNAME:Agile Hunter
X-ORIGINAL-URL:https://agilehunter.com
X-WR-CALDESC:Eventos para Agile Hunter
REFRESH-INTERVAL;VALUE=DURATION:PT1H
X-Robots-Tag:noindex
X-PUBLISHED-TTL:PT1H
BEGIN:VTIMEZONE
TZID:UTC
BEGIN:STANDARD
TZOFFSETFROM:+0000
TZOFFSETTO:+0000
TZNAME:UTC
DTSTART:20230101T000000
END:STANDARD
END:VTIMEZONE
BEGIN:VTIMEZONE
TZID:America/Mexico_City
BEGIN:STANDARD
TZOFFSETFROM:-0600
TZOFFSETTO:-0600
TZNAME:CST
DTSTART:20230101T000000
END:STANDARD
END:VTIMEZONE
BEGIN:VEVENT
DTSTART;TZID=UTC:20241128T180000
DTEND;TZID=UTC:20241129T220000
DTSTAMP:20260423T100858
CREATED:20230902T083933Z
LAST-MODIFIED:20240916T002539Z
UID:5397-1732816800-1732917600@agilehunter.com
SUMMARY:Certificación Scrum Product Owner
DESCRIPTION:El curso Scrum Product Owner es el profesional que interactúa con los stakeholders en un equipo Scrum.  \n\n\n\nEs responsable de garantizar una comunicación clara de los requerimientos del producto o servicio\, definir los criterios de aceptación y garantizar que se cumplan dichos criterios. Por lo que el Product Owner es el encargado de representar los intereses de los stakeholder ante el equipo Scrum.  \n\n\n\nEl Product Owner siempre debe mantener una vista dual. Debe comprender y apoyar las necesidades e intereses de todos los interesados\, al mismo tiempo que comprende las necesidades y el funcionamiento del Equipo Scrum. \n\n\n\nEste curso le ayudará a convertirse en un exitoso Product Owner y le preparará para aprobar exitosamente el examen de certificación (opcional).
URL:https://agilehunter.com/cursos/curso-product-owner/
LOCATION:Virtual Online
ATTACH;FMTTYPE=image/jpeg:https://agilehunter.com/wp-content/uploads/2019/12/PO_Diciembre-1.jpg
END:VEVENT
BEGIN:VEVENT
DTSTART;TZID=America/Mexico_City:20241125T180000
DTEND;TZID=America/Mexico_City:20241129T220000
DTSTAMP:20260423T100858
CREATED:20230912T013305Z
LAST-MODIFIED:20240916T002909Z
UID:5929-1732557600-1732917600@agilehunter.com
SUMMARY:Certificación Scrum Master + Product Owner
DESCRIPTION:El curso Scrum Master + Product Owner te dará una visión completa de que significa Scrum.  \n\n\n\nEl Scrum Master es una figura que funge como un experto en el framework Scrum\, participando como facilitador en los eventos\, coach para temas y/o dudas que pueda tener el equipo respecto al uso de Scrum y removedor de impedimentos para que el equipo siga encaminado a las metas que fueron establecidas en la planeación. Uno de sus fines principales es hacer que los equipos sean cada vez más productivos en la creación del producto. \n\n\n\nEl Product Owner es el profesional que interactúa con los stakeholders en un equipo Scrum. Es responsable de garantizar una comunicación clara de los requerimientos del producto o servicio\, definir los criterios de aceptación y garantizar que se cumplan dichos criterios. Por lo que el Product Owner es el encargado de representar los intereses de los stakeholder ante el equipo Scrum.  \n\n\n\nEste curso le ayudará a convertirse en un exitoso Scrum Master y Product Owner y le preparará para aprobar exitosamente los exámenes de certificación (opcional)
URL:https://agilehunter.com/cursos/curso-scrum-master-product-owner/
LOCATION:Virtual Online
ATTACH;FMTTYPE=image/png:https://agilehunter.com/wp-content/uploads/2023/09/SM-PO.png
END:VEVENT
BEGIN:VEVENT
DTSTART;TZID=UTC:20241125T180000
DTEND;TZID=UTC:20241127T220000
DTSTAMP:20260423T100858
CREATED:20230902T060518Z
LAST-MODIFIED:20240916T002726Z
UID:5387-1732557600-1732744800@agilehunter.com
SUMMARY:Certificación Scrum Master
DESCRIPTION:El curso online Scrum Master es una figura que funge como un experto en el framework Scrum\, participando como facilitador en los eventos\, coach para temas y/o dudas que pueda tener el equipo respecto al uso de Scrum\, y removedor de impedimentos para que el equipo siga encaminado a las metas que fueron establecidas en la planeación.  \n\n\n\nEste curso le ayudará a convertirse en un exitoso Scrum Master y le preparará para aprobar exitosamente el examen de certificación (opcional). \n\n\n\nIncluye el desarrollo grupal de un proyecto usando Scrum\, así como\, dinámicas para la aplicación real de Scrum en el día a día.
URL:https://agilehunter.com/cursos/curso-scrum-master/
LOCATION:Virtual Online
ATTACH;FMTTYPE=image/jpeg:https://agilehunter.com/wp-content/uploads/2023/08/SM-Octubre-e1634581032927.jpg
END:VEVENT
BEGIN:VEVENT
DTSTART;TZID=UTC:20241020T080000
DTEND;TZID=UTC:20241020T170000
DTSTAMP:20260423T100858
CREATED:20231029T093401Z
LAST-MODIFIED:20240916T003442Z
UID:5420-1729411200-1729443600@agilehunter.com
SUMMARY:Certificación Scrum Better with Kanban (SBK)
DESCRIPTION:Scrum Better with Kanban puede ayudarle a mejorar su implementación Scrum mediante la introducción de prácticas y principios Kanban probados así como la aplicación de cambios evolutivos. \n\n\n\nEste curso captura las lecciones aprendidas de los equipos Scrum que desarrollaron con éxito su forma de trabajar utilizando el cambio evolutivo que se encuentra en el Método Kanban. \n\n\n\nNuestra capacitación práctica garantizará que usted obtenga un enfoque para introducir cambios positivos que generarán resultados para su equipo y organización. \n\n\n\nCon este curso usted aprenderá a identificar y analizar los desafíos dentro y alrededor de su implementación Scrum y a preparar soluciones para abordar estos desafíos. \n\n\n\nTambién podrá identificar y desarrollar soluciones a la variabilidad que está retrasando o ralentizando su trabajo\, así como desarrollar y probar posibles soluciones a problemas que reflejen los principios y prácticas del Método Kanban.
URL:https://agilehunter.com/cursos/scrum-better-with-kanban/
LOCATION:Virtual Online
ATTACH;FMTTYPE=image/jpeg:https://agilehunter.com/wp-content/uploads/2023/09/ScrumKanbanPractitioner.jpg
END:VEVENT
END:VCALENDAR